BEGIN:VCALENDAR
VERSION:2.0
PRODID:-//Boule4U - ECPv6.15.20//NONSGML v1.0//EN
CALSCALE:GREGORIAN
METHOD:PUBLISH
X-ORIGINAL-URL:https://boule4you.de
X-WR-CALDESC:Veranstaltungen für Boule4U
REFRESH-INTERVAL;VALUE=DURATION:PT1H
X-Robots-Tag:noindex
X-PUBLISHED-TTL:PT1H
BEGIN:VTIMEZONE
TZID:Europe/Berlin
BEGIN:DAYLIGHT
TZOFFSETFROM:+0100
TZOFFSETTO:+0200
TZNAME:CEST
DTSTART:20220327T010000
END:DAYLIGHT
BEGIN:STANDARD
TZOFFSETFROM:+0200
TZOFFSETTO:+0100
TZNAME:CET
DTSTART:20221030T010000
END:STANDARD
BEGIN:DAYLIGHT
TZOFFSETFROM:+0100
TZOFFSETTO:+0200
TZNAME:CEST
DTSTART:20230326T010000
END:DAYLIGHT
BEGIN:STANDARD
TZOFFSETFROM:+0200
TZOFFSETTO:+0100
TZNAME:CET
DTSTART:20231029T010000
END:STANDARD
BEGIN:DAYLIGHT
TZOFFSETFROM:+0100
TZOFFSETTO:+0200
TZNAME:CEST
DTSTART:20240331T010000
END:DAYLIGHT
BEGIN:STANDARD
TZOFFSETFROM:+0200
TZOFFSETTO:+0100
TZNAME:CET
DTSTART:20241027T010000
END:STANDARD
END:VTIMEZONE
BEGIN:VTIMEZONE
TZID:UTC
BEGIN:STANDARD
TZOFFSETFROM:+0000
TZOFFSETTO:+0000
TZNAME:UTC
DTSTART:20220101T000000
END:STANDARD
END:VTIMEZONE
BEGIN:VEVENT
DTSTART;VALUE=DATE:20231002
DTEND;VALUE=DATE:20231009
DTSTAMP:20260423T114337
CREATED:20230222T112920Z
LAST-MODIFIED:20230222T112920Z
UID:426-1696204800-1696809599@boule4you.de
SUMMARY:Boule4You in NY
DESCRIPTION:Sönke goes Ney York und wir sind dabei!
URL:https://boule4you.de/event/boule4you-in-ny
END:VEVENT
BEGIN:VEVENT
DTSTART;VALUE=DATE:20230909
DTEND;VALUE=DATE:20230910
DTSTAMP:20260423T114337
CREATED:20230907T180320Z
LAST-MODIFIED:20230907T180320Z
UID:1948-1694217600-1694303999@boule4you.de
SUMMARY:Großer Hessenspieltag
DESCRIPTION:Der finale Ligaspieltag in Hessen. 11 Liegen\, 106 Teams inklusive eines Endspiels um die Hessenmeisterschaft zwischen Petterweil und Wiesbaden
URL:https://boule4you.de/event/grosser-hessenspieltag
LOCATION:Gießen Ringalle 20\, Ringallee 20\, Gießen
END:VEVENT
BEGIN:VEVENT
DTSTART;VALUE=DATE:20230902
DTEND;VALUE=DATE:20230904
DTSTAMP:20260423T114337
CREATED:20230824T085717Z
LAST-MODIFIED:20230824T085717Z
UID:1697-1693612800-1693785599@boule4you.de
SUMMARY:3. DPB Spieltag 2023
DESCRIPTION:Die Entscheidung über den Meister\, die Platzierungen und die 4 Absteiger. \nBoule4U wird dabei sein
URL:https://boule4you.de/event/3-dpb-spieltag-2023
LOCATION:Mannheim Käfertal
END:VEVENT
BEGIN:VEVENT
DTSTART;VALUE=DATE:20230819
DTEND;VALUE=DATE:20230821
DTSTAMP:20260423T114337
CREATED:20230706T130949Z
LAST-MODIFIED:20230706T130949Z
UID:1423-1692403200-1692575999@boule4you.de
SUMMARY:4. Stahlball Open
DESCRIPTION:Triplette und Doublette \nboule4u auf dem Platz und später am Mikro \nhttps://www.stahlball.rocks/
URL:https://boule4you.de/event/4-stahlball-open
LOCATION:mariannenpark\, Mariannenpark\, Leipzig\, 04347
END:VEVENT
BEGIN:VEVENT
DTSTART;VALUE=DATE:20230729
DTEND;VALUE=DATE:20230731
DTSTAMP:20260423T114337
CREATED:20230718T134919Z
LAST-MODIFIED:20230718T134919Z
UID:1488-1690588800-1690761599@boule4you.de
SUMMARY:10. Fehmarn Northern Open
DESCRIPTION:Boule4u auf dem Platz und später am Mikro
URL:https://boule4you.de/event/10-fehmarn-northern-open
LOCATION:Burgstaaken/Fehmarn\, Burgstaaken 1004\, Fehmarn\, 23769\, Deutschland
END:VEVENT
BEGIN:VEVENT
DTSTART;VALUE=DATE:20230714
DTEND;VALUE=DATE:20230717
DTSTAMP:20260423T114337
CREATED:20230706T131206Z
LAST-MODIFIED:20230706T131206Z
UID:1427-1689292800-1689551999@boule4you.de
SUMMARY:Lion Rouge
DESCRIPTION:boule4u auf dem Platz und wenn gewünscht am Mikro \nEins der schönsten Turniere in DE \nSportanlage Am Erbenholz\nPeiner Str. 100\n30880 Laatzen / Rethen
URL:https://boule4you.de/event/lion-rouge
END:VEVENT
BEGIN:VEVENT
DTSTART;VALUE=DATE:20230624
DTEND;VALUE=DATE:20230625
DTSTAMP:20260423T114337
CREATED:20230526T115317Z
LAST-MODIFIED:20230526T115328Z
UID:1155-1687564800-1687651199@boule4you.de
SUMMARY:30. GrandPrix d'Aix-la-Chapelle 2023
DESCRIPTION:Boule4You auf dem Platz und hinter der Kamera in Aachen
URL:https://boule4you.de/event/30-grandprix-daix-la-chapelle-2023
END:VEVENT
BEGIN:VEVENT
DTSTART;VALUE=DATE:20230617
DTEND;VALUE=DATE:20230619
DTSTAMP:20260423T114337
CREATED:20230526T115042Z
LAST-MODIFIED:20230526T115042Z
UID:1153-1686960000-1687132799@boule4you.de
SUMMARY:Triplette DM in Berlin
DESCRIPTION:Boule4You berichtet aus Berlin
URL:https://boule4you.de/event/triplette-dm-in-berlin
END:VEVENT
BEGIN:VEVENT
DTSTART;VALUE=DATE:20230520
DTEND;VALUE=DATE:20230522
DTSTAMP:20260423T114337
CREATED:20230507T110604Z
LAST-MODIFIED:20230507T110604Z
UID:903-1684540800-1684713599@boule4you.de
SUMMARY:Doublette DM in Rastatt
DESCRIPTION:Berichte von der DM
URL:https://boule4you.de/event/doublette-dm-in-rastatt
END:VEVENT
BEGIN:VEVENT
DTSTART;VALUE=DATE:20230422
DTEND;VALUE=DATE:20230424
DTSTAMP:20260423T114337
CREATED:20230214T093702Z
LAST-MODIFIED:20230214T093834Z
UID:376-1682121600-1682294399@boule4you.de
SUMMARY:BuLi 1. Spieltag Süd
DESCRIPTION:Übertragung aus Gersweiler\, BuLi Gruppe Süd \nPaarungen werden bekannt gegeben\, wenn der Spielplan steht
URL:https://boule4you.de/event/buli-1-spiletag-sued
LOCATION:Halle Gersweiler
CATEGORIES:BuLi,Live
END:VEVENT
BEGIN:VEVENT
DTSTART;VALUE=DATE:20230415
DTEND;VALUE=DATE:20230416
DTSTAMP:20260423T114337
CREATED:20230327T094406Z
LAST-MODIFIED:20230327T094406Z
UID:669-1681516800-1681603199@boule4you.de
SUMMARY:Live vom Grand Prix Viernheim; DPV Masters 3×3
DESCRIPTION:Live Übertragung aus Viernheim auf boule4you.de
URL:https://boule4you.de/event/live-vom-grand-prix-viernheim-dpv-masters-3x3
LOCATION:feierabendhalle-viernheim\, Stadionstraße 25\, Viernheim\, Hessen\, 68519\, Deutschland
END:VEVENT
BEGIN:VEVENT
DTSTART;VALUE=DATE:20230223
DTEND;VALUE=DATE:20230224
DTSTAMP:20260423T114337
CREATED:20230118T203539Z
LAST-MODIFIED:20230222T112808Z
UID:17-1677110400-1677196799@boule4you.de
SUMMARY:Webseiten Launch
DESCRIPTION:Es geht los !! \nGo public 🙂
URL:https://boule4you.de/event/webseiten-launch
END:VEVENT
END:VCALENDAR